BEGIN:VCALENDAR
VERSION:2.0
PRODID:-//Tukios.com/
BEGIN:VEVENT
UID:26e08aff-0f09-469d-b959-ddc9858a332f@www.berryfh.com
DTSTAMP:20260426T042811Z
DTSTART:20260427T160000Z
DTEND:20260427T164500Z
SUMMARY:Visitation
DESCRIPTION:
URL:https://www.berryfh.com/obituaries/iris-fernandez
LOCATION:Berry Funeral Home 1265 Washington Hwy  Elberton GA 30635
GEO:34.0871911;-82.8476129
END:VEVENT
END:VCALENDAR